BEGIN:VCALENDAR
VERSION:2.0
PRODID:DPCALENDAR
CALSCALE:GREGORIAN
BEGIN:VTIMEZONE
TZID:Europe/Berlin
X-MICROSOFT-CDO-TZID:4
BEGIN:STANDARD
DTSTART:20251026T010000
TZOFFSETFROM:+0200
TZOFFSETTO:+0100
TZNAME:CET
END:STANDARD
BEGIN:STANDARD
DTSTART:20261025T010000
TZOFFSETFROM:+0200
TZOFFSETTO:+0100
TZNAME:CET
END:STANDARD
BEGIN:DAYLIGHT
DTSTART:20260329T010000
TZOFFSETFROM:+0100
TZOFFSETTO:+0200
TZNAME:CEST
END:DAYLIGHT
END:VTIMEZONE
X-WR-TIMEZONE:Europe/Berlin
BEGIN:VEVENT
DTSTART;TZID=Europe/Berlin:20191201T100000
DTEND;TZID=Europe/Berlin:20191201T110000
UID:650D6852-B0A7-4797-B6F0-4F272AC58856
SUMMARY:Zur Zeit sind keine Veranstaltungen geplant
CREATED:20190926T092734Z
DTSTAMP:20190926T092734Z
LAST-MODIFIED:20191128T162318Z
SEQUENCE:5468144
URL:https://www.flueelen.ch/terminkalender-buergergemeinde/test
X-ACCESS:1
X-HITS:106
X-COLOR:88786d
X-SHOW-END-TIME:1
END:VEVENT
BEGIN:VEVENT
DTSTART;TZID=Europe/Berlin:20221022T083000
DTEND;TZID=Europe/Berlin:20221022T113000
UID:0E5ABBA5-A46D-4642-90EB-767BA38511F9
SUMMARY:Information Neophyten-Projekt
CREATED:20221013T082351Z
DTSTAMP:20221013T082351Z
DESCRIPTION:Am Samstag, 22. Oktober 2022, informieren die Fachleute der Korporationsbürgergemeinden Flüelen, Altdorf und Sisikon zusammen mit dem Amt für Umweltschutz am Wochenmarkt Altdorf über das Neophyten-Projekt des Forstbetriebs Urnersee. Sie zeigen auf, warum es sich für unsere Wälder lohnt, in Privatgärten einheimische Gewächse zu pflanzen. In diesen Tagen werden die Liegenschaftsbesitzer der Gemeinden Altdorf, Flüelen und Sisikon Post bekommen und in einem Flyer auf die kostenlose Beratung und Tauschaktion hingewiesen. Mehr Infos unter www.ur.ch/neophyten_hausgarten\NMehr Infos zum Projekt gibt es in der Rubrik Aktuelles.
X-ALT-DESC;FMTTYPE=text/html:<p>Am Samstag, 22. Oktober 2022, informieren die Fachleute der Korporationsbürgergemeinden Flüelen, Altdorf und Sisikon zusammen mit dem Amt für Umweltschutz am Wochenmarkt Altdorf über das Neophyten-Projekt des Forstbetriebs Urnersee. Sie zeigen auf, warum es sich für unsere Wälder lohnt, in Privatgärten einheimische Gewächse zu pflanzen. In diesen Tagen werden die Liegenschaftsbesitzer der Gemeinden Altdorf, Flüelen und Sisikon Post bekommen und in einem Flyer auf die kostenlose Beratung und Tauschaktion hingewiesen. Mehr Infos unter <a href="http://www.ur.ch/neophyten_hausgarten" class="icms-link-int">www.ur.ch/neophyten_hausgarten</a></p><p>Mehr Infos zum Projekt gibt es in der <a href="https://www.buergergemeinde-flueelen.ch/portrait-buergergemeinde/aktuelles-buergergemeinde/1394-forstrevier-urnersee-lanciert-neophyten-projekt">Rubrik Aktuelles</a>.</p>
LAST-MODIFIED:20221013T082615Z
SEQUENCE:144
URL:https://www.flueelen.ch/terminkalender-buergergemeinde/information-neophyten-projekt
X-ACCESS:1
X-HITS:491
X-COLOR:88786d
X-SHOW-END-TIME:1
END:VEVENT
BEGIN:VEVENT
DTSTART;TZID=Europe/Berlin:20221216T090000
DTEND;TZID=Europe/Berlin:20221216T200000
UID:9D5A75F4-45B1-40D4-9892-6C28BA11FA03
SUMMARY:Christbaum-Abgabe 2022
CREATED:20221114T135831Z
DTSTAMP:20221114T135831Z
DESCRIPTION:Die bestellten Christbäume können im Werkhof der Korporationsbürgergemeinde Flüelen abgeholt werden.\NDer Bürgerrat Flüelen und das Personal des Forsts Urnersee wünschen frohe Weihnachten.
X-ALT-DESC;FMTTYPE=text/html:<p>Die bestellten Christbäume können im Werkhof der Korporationsbürgergemeinde Flüelen abgeholt werden.</p><p>Der Bürgerrat Flüelen und das Personal des Forsts Urnersee wünschen frohe Weihnachten.</p>
URL:https://www.flueelen.ch/terminkalender-buergergemeinde/christbaum-abgabe-2022
X-ACCESS:1
X-HITS:812
X-COLOR:88786d
X-SHOW-END-TIME:1
END:VEVENT
BEGIN:VEVENT
DTSTART;TZID=Europe/Berlin:20230125T190000
DTEND;TZID=Europe/Berlin:20230125T200000
UID:3E9E836D-4845-441E-8639-92DB4B3C3FFA
SUMMARY:Infoveranstaltung zum Revierbetrieb "Forst Urnersee" + Neujahrsapéro Bürgergemeinde
CREATED:20221114T140337Z
DTSTAMP:20221114T140337Z
DESCRIPTION:Der Korporationsbürgergemeinde Flüelen wird an ihrer jährlichen Versammlung im April 2023 über zwei grössere Geschäfte befinden. Deshalb will der Bürgerrat Flüelen die Bürgerinnen und Bürger vorgängig im Rahmen einer Infoveranstaltung darübre orientieren:\N \NGründung Revierbetrieb Forst Urnersee\NDie Bürgergemeinden Flüelen, Sisikon und Altdorf wollen in der Waldbewirtschaftung enger zusammenarbeiten. Dazu soll per 2024 ein gemeinsamer Forstbetrieb gegründet werden. Die drei Bürgergemeinden werden im April 2023 an ihren Versammlungen über die Gründung dieser öffentlich-rechtlichen Körperschaft abstimmen.\N \NAnschaffung Kippmastgerät\NDie drei Korporationsbürgergemeinden Flüelen, Sisikon und Altdorf planen zudem eine grössere Investition. Gemeinsam soll ein Kippmastgerät angeschafft werden. Diese moderne Holzseilanlage verspricht effizientes und sicheres Arbeiten im Wald. Die Flüeler Bürger/innen werden an der Versammlung vom 26. April 2023 darüber befinden.
X-ALT-DESC;FMTTYPE=text/html:<p>Der Korporationsbürgergemeinde Flüelen wird an ihrer jährlichen Versammlung im April 2023 über zwei grössere Geschäfte befinden. Deshalb will der Bürgerrat Flüelen die Bürgerinnen und Bürger vorgängig im Rahmen einer Infoveranstaltung darübre orientieren:</p><p>&nbsp;</p><p><strong>Gründung Revierbetrieb Forst Urnersee</strong></p><p>Die Bürgergemeinden Flüelen, Sisikon und Altdorf wollen in der Waldbewirtschaftung enger zusammenarbeiten. Dazu soll per 2024 ein gemeinsamer Forstbetrieb gegründet werden. Die drei Bürgergemeinden werden im April 2023 an ihren Versammlungen über die Gründung dieser öffentlich-rechtlichen Körperschaft abstimmen.</p><p>&nbsp;</p><p><strong>Anschaffung Kippmastgerät</strong></p><p>Die drei Korporationsbürgergemeinden Flüelen, Sisikon und Altdorf planen zudem eine grössere Investition. Gemeinsam soll ein Kippmastgerät angeschafft werden. Diese moderne Holzseilanlage verspricht effizientes und sicheres Arbeiten im Wald. Die Flüeler Bürger/innen werden an der Versammlung vom 26. April 2023 darüber befinden.</p>
LAST-MODIFIED:20221119T115907Z
SEQUENCE:424530
URL:https://www.flueelen.ch/terminkalender-buergergemeinde/neujahrsapero-infoveranstaltung-forst-urnersee
X-ACCESS:1
X-HITS:1180
X-COLOR:88786d
X-SHOW-END-TIME:0
END:VEVENT
BEGIN:VEVENT
DTSTART;TZID=Europe/Berlin:20230424T200000
DTEND;TZID=Europe/Berlin:20230424T220000
UID:FFFE6036-F79B-4FC2-A486-B07268CD83B5
SUMMARY:Korporationsbürgergemeinde-Versammlung Sisikon
CREATED:20221114T140014Z
DTSTAMP:20221114T140014Z
DESCRIPTION:Traktandiert ist unter anderem der Zusammenschluss zum Revierbetrieb Forst Urnersee (Sisikon, Flüelen, Altdorf)\NVersammlungsort: Turnhalle Sisikon
X-ALT-DESC;FMTTYPE=text/html:<p>Traktandiert ist unter anderem der Zusammenschluss zum Revierbetrieb Forst Urnersee (Sisikon, Flüelen, Altdorf)</p><p>Versammlungsort: Turnhalle Sisikon</p>
LAST-MODIFIED:20230406T175222Z
SEQUENCE:12369128
URL:https://www.flueelen.ch/terminkalender-buergergemeinde/korporationsbuergergemeinde-versammlung-sisikon
X-ACCESS:1
X-HITS:549
X-COLOR:88786d
X-SHOW-END-TIME:0
END:VEVENT
BEGIN:VEVENT
DTSTART;TZID=Europe/Berlin:20230426T190000
DTEND;TZID=Europe/Berlin:20230426T220000
UID:023554CC-F60F-4FA8-AC57-B796EEA112D7
SUMMARY:Korporationsbürgergemeinde-Versammlung Flüelen 2023
CREATED:20221114T140014Z
DTSTAMP:20221114T140014Z
DESCRIPTION:im Werkhof der Bürgergemeinde Flüelen\NInfos folgen
X-ALT-DESC;FMTTYPE=text/html:<p>im Werkhof der Bürgergemeinde Flüelen</p><p>Infos folgen</p>
LAST-MODIFIED:20221114T140107Z
SEQUENCE:53
URL:https://www.flueelen.ch/terminkalender-buergergemeinde/korporationsbuergergemeinde-flueelen-2023
X-ACCESS:1
X-HITS:1672
X-COLOR:88786d
X-SHOW-END-TIME:0
END:VEVENT
BEGIN:VEVENT
DTSTART;TZID=Europe/Berlin:20230427T200000
DTEND;TZID=Europe/Berlin:20230427T220000
UID:E73BA230-AB91-4E02-BF7E-363744E1A367
SUMMARY:Korporationsbürgergemeinde-Versammlung Altdorf
CREATED:20221114T140014Z
DTSTAMP:20221114T140014Z
DESCRIPTION:Traktandiert ist unter anderem der Zusammenschluss zum Revierbetrieb Forst Urnersee (Flüelen, Sisikon und Altdorf).\NVersammlungsort: Rosenberg, Altdorf
X-ALT-DESC;FMTTYPE=text/html:<p>Traktandiert ist unter anderem der Zusammenschluss zum Revierbetrieb Forst Urnersee (Flüelen, Sisikon und Altdorf).</p><p>Versammlungsort: Rosenberg, Altdorf</p>
LAST-MODIFIED:20230406T175156Z
SEQUENCE:12369102
URL:https://www.flueelen.ch/terminkalender-buergergemeinde/korporationsbuergergemeinde-versammlung-altdorf
X-ACCESS:1
X-HITS:634
X-COLOR:88786d
X-SHOW-END-TIME:0
END:VEVENT
BEGIN:VEVENT
DTSTART;TZID=Europe/Berlin:20230507T110000
DTEND;TZID=Europe/Berlin:20230507T130000
UID:176F3C54-B8F8-44FE-BA54-763CA45C160C
SUMMARY:Korporationsgemeinde Uri
CREATED:20230406T175320Z
DTSTAMP:20230406T175320Z
DESCRIPTION:Alle zwei Jahre findet am ersten oder dritten Sonntag im Mai auf dem Lehnplatz in Altdorf die Korporationsgemeinde statt. Stimmberechtigt sind alle Korporationsbürgerinnen und -bürger, die das 18. Altersjahr erfüllt und im Korporationsgebiet ihren Wohnsitz haben.
X-ALT-DESC;FMTTYPE=text/html:<p>Alle zwei Jahre findet am ersten oder dritten Sonntag im Mai auf dem Lehnplatz in Altdorf die Korporationsgemeinde statt. Stimmberechtigt sind alle Korporationsbürgerinnen und -bürger, die das 18. Altersjahr erfüllt und im Korporationsgebiet ihren Wohnsitz haben.</p>
URL:https://www.flueelen.ch/terminkalender-buergergemeinde/korporationsgemeinde-uri
X-ACCESS:1
X-HITS:1084
X-COLOR:88786d
X-SHOW-END-TIME:1
END:VEVENT
BEGIN:VEVENT
DTSTART;TZID=Europe/Berlin:20231201T170000
DTEND;TZID=Europe/Berlin:20231226T180000
UID:C6ECB536-EA4E-4A06-ADD8-7800E3158EA4
SUMMARY:Bestellung Christbaum
CREATED:20231120T140328Z
DTSTAMP:20231120T140328Z
DESCRIPTION:Personal Der Bürgerrat Flüelen und das Pdes Forst Urnersee freuen sich, auch dieses Jahr den Christbaum-Verkauf durchführen zu können. \NBaum-Bestellungen: per Mail oder telefonisch bis spätestens 1. Dezember 2023 bei:             \N\N\NBürgerschreiberin Margrit Scheiber-Walker, untere Rütti 4, 6454 FlüelenTel. 041 871 37 67 oder E-Mail buergergemeinde.flueelen@bluewin.ch\N\N\NAbgabe beim Forstwerkhof Flüelen, Kohlplatzweg 1:\N\N\NFreitag, 15. Dezember 2023, von 9 bis 20 Uhr\N\N\NAstverkauf:\Nab sofortbeim Forstwerkhof (Selbstbedienung)\N
X-ALT-DESC;FMTTYPE=text/html:<p>Personal Der Bürgerrat Flüelen und das Pdes Forst Urnersee freuen sich, auch dieses Jahr den Christbaum-Verkauf durchführen zu können.&nbsp;</p><p><strong>Baum-Bestellungen: per Mail oder telefonisch bis spätestens 1. Dezember 2023 bei:</strong>&nbsp; &nbsp; &nbsp; &nbsp; &nbsp; &nbsp; &nbsp;</p><ul><li><pre>Bürgerschreiberin Margrit Scheiber-Walker, untere Rütti 4, 6454 Flüelen<br />Tel. 041 871 37 67 oder E-Mail&nbsp;<a href="mailto:buergergemeinde.flueelen@bluewin.ch"></a><a href="mailto:buergergemeinde.flueelen@bluewin.ch">buergergemeinde.flueelen@bluewin.ch</a></pre></li></ul><p><strong>Abgabe beim Forstwerkhof Flüelen, Kohlplatzweg 1:</strong></p><ul><li><pre>Freitag, 15. Dezember 2023, von 9 bis 20 Uhr</pre></li></ul><p><strong>Astverkauf:</strong></p><p>ab sofortbeim Forstwerkhof (Selbstbedienung)</p><p><br /><br /></p>
LAST-MODIFIED:20231227T181557Z
SEQUENCE:3211949
URL:https://www.buergergemeinde-flueelen.ch/images/04_buergergemeinde/02_aktuelles/2023/Christbaumbestellung_Flyer.pdf
X-ACCESS:1
X-HITS:919
X-COLOR:88786d
X-SHOW-END-TIME:0
END:VEVENT
BEGIN:VEVENT
DTSTART;TZID=Europe/Berlin:20231215T090000
DTEND;TZID=Europe/Berlin:20231215T200000
UID:EE418C73-A8F0-4BD0-9B80-5F9C5711D6C8
SUMMARY:Abholung Christbaum
CREATED:20231120T140620Z
DTSTAMP:20231120T140620Z
DESCRIPTION:Abgabe bestellter Christbäume:\N \NFreitag, 15. Dezember 2023 von 09.00 Uhr – 20.00 Uhrbeim Forstwerkhof, Kohlplatzweg 1, Flüelen
X-ALT-DESC;FMTTYPE=text/html:<p>Abgabe bestellter Christbäume:</p><p>&nbsp;</p><p>Freitag, 15. Dezember 2023 von 09.00 Uhr – 20.00 Uhr<br />beim Forstwerkhof, Kohlplatzweg 1, Flüelen</p>
URL:https://www.buergergemeinde-flueelen.ch/portrait-buergergemeinde/aktuelles-buergergemeinde/christbaumbestellung
X-ACCESS:1
X-HITS:716
X-COLOR:88786d
X-SHOW-END-TIME:1
END:VEVENT
BEGIN:VEVENT
DTSTART;TZID=Europe/Berlin:20240417T190000
DTEND;TZID=Europe/Berlin:20240417T213000
UID:DD3756A9-D0F7-4560-A2FC-099A4F68CFA0
SUMMARY:Jahresversammlung der Bürgergemeinde Flüelen
CREATED:20231227T181713Z
DTSTAMP:20231227T181713Z
DESCRIPTION:Einladung\NKorporationsbürgergemeindeversammlung\NMittwoch, 17. April 2024, 19.00 Uhr\NForstwerkhof, Kohlplatzweg 1, 6454 Flüelen\N \NTraktanden:\N\NBegrüssung\N\NNachtragskredit von Fr. 31'744.00, Anbau Forstwerkhof \N\NAblage und Genehmigung der Rechnungen 2023 und der Budgets 2024\NBürgerrechnung\NWaldrechnung\N\N\N Wahlen\NBürgerrat auf 2 Jahre Amtsdauer 2024 – 2026\NRechnungsprüfungskommission\NKorporationsrat Uri auf 4 Jahre Amtsdauer 2024 - 2028\N\N\NOrientierungen\NHermann Herger, Präsident\NElias Bricker, Betriebskommission Forst Urnersee\NLorenz Jud, Revierförster\NMartsen Zgraggen, Forstwart, Umweltfachmann\N\N\N \N \NFreundlich lädt ein\NKorporationsbürgerrat Flüelen             
X-ALT-DESC;FMTTYPE=text/html:<p><strong>Einladung</strong></p><p><strong>Korporationsbürgergemeindeversammlung</strong></p><p><strong>Mittwoch, 17. April 2024, 19.00 Uhr</strong></p><p>Forstwerkhof, Kohlplatzweg 1, 6454 Flüelen</p><p><strong>&nbsp;</strong></p><p><strong>Traktanden:</strong></p><ol><li><strong>Begrüssung</strong></li></ol><ol start="2"><li><strong>Nachtragskredit von Fr. 31'744.00, Anbau Forstwerkhof </strong></li></ol><ol start="3"><li><strong>Ablage und Genehmigung der Rechnungen 2023 und der Budgets 2024</strong><ol><li>Bürgerrechnung</li><li>Waldrechnung</li></ol></li></ol><ol start="4"><li><strong> Wahlen</strong><ol><li>Bürgerrat auf 2 Jahre Amtsdauer 2024 – 2026</li><li>Rechnungsprüfungskommission</li><li>Korporationsrat Uri auf 4 Jahre Amtsdauer 2024 - 2028</li></ol></li></ol><ol start="5"><li><strong>Orientierungen</strong><ol><li>Hermann Herger, Präsident</li><li>Elias Bricker, Betriebskommission Forst Urnersee</li><li>Lorenz Jud, Revierförster</li><li>Martsen Zgraggen, Forstwart, Umweltfachmann</li></ol></li></ol><p><strong>&nbsp;</strong></p><p><strong>&nbsp;</strong></p><p>Freundlich lädt ein</p><p><strong>Korporationsbürgerrat Flüelen</strong><strong>&nbsp;&nbsp;&nbsp;&nbsp;&nbsp;&nbsp;&nbsp;&nbsp;&nbsp;&nbsp;&nbsp;&nbsp; </strong></p>
LAST-MODIFIED:20240324T122614Z
SEQUENCE:7582141
URL:https://www.flueelen.ch/terminkalender-buergergemeinde/korporationsbuergergemeinde-versammlung-flueelen
X-ACCESS:1
X-HITS:1313
X-COLOR:88786d
X-SHOW-END-TIME:0
END:VEVENT
BEGIN:VEVENT
DTSTART;VALUE=DATE:20240902
DTEND;VALUE=DATE:20240903
UID:AFB673AB-D9B3-450F-83DA-BD79D7287750
SUMMARY:"Tag für alle"
CREATED:20231227T182024Z
DTSTAMP:20231227T182024Z
DESCRIPTION:Am 14. September 2024 lanciert der Schweizerische Verband der Bürgergemeinden und Korporationen (SVBK) erstmals einen nationalen Tag der Bürgergemeinden und Korporationen. An diesem Samstag werden die vielfältigen Aufgabenbereiche und Tätigkeiten dieser Körperschaften der breiten Öffentlichkeit bewusst und bekannt gemacht.Im Kanton Uri können Interessierte von 10.00 – 16.00 Uhr an drei Standorten die Korporation Uri und die Bürgergemeinden kennenlernen und sich mit Behördenvertretern austauschen.Der Betrieb Forst Urnersee präsentiert im Bannwald beim Belmité-Holzplatz in Altdorf.Mehr Infos unter www.korporationen.ch
X-ALT-DESC;FMTTYPE=text/html:<p>Am 14. September 2024 lanciert der Schweizerische Verband der Bürgergemeinden und Korporationen (SVBK) erstmals einen nationalen Tag der Bürgergemeinden und Korporationen. An diesem Samstag werden die vielfältigen Aufgabenbereiche und Tätigkeiten dieser Körperschaften der breiten Öffentlichkeit bewusst und bekannt gemacht.<br /><br />Im Kanton Uri können Interessierte von 10.00 – 16.00 Uhr an drei Standorten die Korporation Uri und die Bürgergemeinden kennenlernen und sich mit Behördenvertretern austauschen.<br /><br />Der Betrieb Forst Urnersee präsentiert im Bannwald beim Belmité-Holzplatz in Altdorf.<br /><br />Mehr Infos unter www.korporationen.ch</p>
LAST-MODIFIED:20240905T081842Z
SEQUENCE:21823098
URL:https://www.flueelen.ch/terminkalender-buergergemeinde/tag-der-buergergemeinden-und-korportionen
X-ACCESS:1
X-HITS:2325
X-COLOR:88786d
X-SHOW-END-TIME:0
END:VEVENT
BEGIN:VEVENT
DTSTART;TZID=Europe/Berlin:20240914T100000
DTEND;TZID=Europe/Berlin:20240914T110000
UID:206F3AA4-121D-474F-9386-E96157C151A6
SUMMARY:Tag für alle
CREATED:20240905T081915Z
DTSTAMP:20240905T081915Z
DESCRIPTION:Am 14. September 2024 lanciert der Schweizerische Verband der Bürgergemeinden und Korporationen (SVBK) erstmals einen nationalen Tag der Bürgergemeinden und Korporationen. An diesem Samstag werden die vielfältigen Aufgabenbereiche und Tätigkeiten dieser Körperschaften der breiten Öffentlichkeit bewusst und bekannt gemacht.Im Kanton Uri können Interessierte von 10.00 – 16.00 Uhr an drei Standorten die Korporation Uri und die Bürgergemeinden kennenlernen und sich mit Behördenvertretern austauschen.Der Betrieb Forst Urnersee präsentiert im Bannwald beim Belmité-Holzplatz in Altdorf.Mehr Infos unter www.korporationen.ch
X-ALT-DESC;FMTTYPE=text/html:<p>Am 14. September 2024 lanciert der Schweizerische Verband der Bürgergemeinden und Korporationen (SVBK) erstmals einen nationalen Tag der Bürgergemeinden und Korporationen. An diesem Samstag werden die vielfältigen Aufgabenbereiche und Tätigkeiten dieser Körperschaften der breiten Öffentlichkeit bewusst und bekannt gemacht.<br /><br />Im Kanton Uri können Interessierte von 10.00 – 16.00 Uhr an drei Standorten die Korporation Uri und die Bürgergemeinden kennenlernen und sich mit Behördenvertretern austauschen.<br /><br />Der Betrieb Forst Urnersee präsentiert im Bannwald beim Belmité-Holzplatz in Altdorf.<br /><br />Mehr Infos unter www.korporationen.ch</p>
URL:https://www.flueelen.ch/terminkalender-buergergemeinde/tag-fuer-alle
X-ACCESS:1
X-HITS:266
X-COLOR:88786d
X-SHOW-END-TIME:0
END:VEVENT
BEGIN:VEVENT
DTSTART;TZID=Europe/Berlin:20241213T090000
DTEND;TZID=Europe/Berlin:20241213T200000
UID:F1545AD3-40E1-4D3D-BA04-C25D5E94DDB0
SUMMARY:Christbaum-Verkauf
CREATED:20241031T142213Z
DTSTAMP:20241031T142213Z
DESCRIPTION:Die bestellten Christbäume können wie folgt abgeholt werden:\N \NBestellungen:  bis spätestens am 1. Dezember 2024 bei:\N Forst Urnersee, Gemeindehausplatz 2, 6460 Altdorf\N Tel. 041 874 12 03    Montag           7:30 - 11:45 Uhr 13:15 - 16:30 Uhr\N                                    Dienstag         7:30 - 11:45 Uhr\N                                    Donnerstag     7:30 - 11:45 Uhr 13:15 - 16:30 Uhr\NE-Mail: manuela.arnold@forsturnersee.ch\N \NAbgabe:          Freitag, 13. Dezember 2024 von 09.00 Uhr – 20.00 Uhr\N beim Forstwerkhof, Kohlplatzweg 1, Flüelen\N Astverkauf:    ab sofort, beim Forstwerkhof (Selbstbedienung)
X-ALT-DESC;FMTTYPE=text/html:<p>Die bestellten Christbäume können wie folgt abgeholt werden:</p><p>&nbsp;</p><p>Bestellungen:<strong> &nbsp;</strong>bis spätestens am 1. Dezember 2024 bei:</p><p>&nbsp;Forst Urnersee, Gemeindehausplatz 2, 6460 Altdorf</p><p>&nbsp;Tel. <a href="https://www.google.com/search?client=firefox-b-d&amp;q=forst+urnersee">041 874 12 03</a> &nbsp;&nbsp; Montag&nbsp;&nbsp; &nbsp;&nbsp;&nbsp;&nbsp;&nbsp;&nbsp;&nbsp; 7:30 - 11:45 Uhr 13:15 - 16:30 Uhr</p><p>&nbsp;&nbsp;&nbsp;&nbsp;&nbsp;&nbsp;&nbsp;&nbsp;&nbsp;&nbsp;&nbsp;&nbsp;&nbsp;&nbsp;&nbsp;&nbsp;&nbsp;&nbsp;&nbsp;&nbsp;&nbsp;&nbsp;&nbsp;&nbsp;&nbsp;&nbsp;&nbsp;&nbsp;&nbsp;&nbsp;&nbsp;&nbsp;&nbsp;&nbsp;&nbsp; Dienstag &nbsp;&nbsp;&nbsp;&nbsp;&nbsp;&nbsp;&nbsp; 7:30 - 11:45 Uhr</p><p>&nbsp;&nbsp;&nbsp;&nbsp;&nbsp;&nbsp;&nbsp;&nbsp;&nbsp;&nbsp;&nbsp;&nbsp;&nbsp;&nbsp;&nbsp;&nbsp;&nbsp;&nbsp;&nbsp;&nbsp;&nbsp;&nbsp;&nbsp;&nbsp;&nbsp;&nbsp;&nbsp;&nbsp;&nbsp;&nbsp;&nbsp;&nbsp;&nbsp;&nbsp;&nbsp; Donnerstag &nbsp;&nbsp;&nbsp; 7:30 - 11:45 Uhr 13:15 - 16:30 Uhr</p><p>E-Mail: <a href="mailto:manuela.arnold@forsturnersee.ch">manuela.arnold@forsturnersee.ch</a></p><p>&nbsp;</p><p><strong>Abgabe:</strong>&nbsp;&nbsp;&nbsp;&nbsp;&nbsp;&nbsp;&nbsp;&nbsp; &nbsp;<strong>Freitag, 13. Dezember 2024 von 09.00 Uhr – 20.00 Uhr</strong></p><p>&nbsp;beim Forstwerkhof, Kohlplatzweg 1, Flüelen</p><p>&nbsp;Astverkauf:&nbsp;&nbsp;&nbsp; ab sofort, beim Forstwerkhof (Selbstbedienung)</p>
URL:www.forsturnersee.ch
X-ACCESS:1
X-HITS:893
X-COLOR:88786d
X-SHOW-END-TIME:1
END:VEVENT
BEGIN:VEVENT
DTSTART;TZID=Europe/Berlin:20250430T190000
DTEND;TZID=Europe/Berlin:20250430T220000
UID:642A2DAA-7B23-4636-A9B1-1B1565D50CF6
SUMMARY:Jahresversammlung Bürgergemeinde Flüelen
CREATED:20250111T133027Z
DTSTAMP:20250111T133027Z
DESCRIPTION:Ort: Werkhof Bürgergemeinde Flüelen
X-ALT-DESC;FMTTYPE=text/html:<p>Ort: Werkhof Bürgergemeinde Flüelen</p>
LAST-MODIFIED:20250111T133107Z
SEQUENCE:40
URL:https://www.flueelen.ch/terminkalender-buergergemeinde/jahresversammlung-buergergemeinde-flueelen
X-ACCESS:1
X-HITS:737
X-COLOR:88786d
X-SHOW-END-TIME:0
END:VEVENT
BEGIN:VEVENT
DTSTART;TZID=Europe/Berlin:20251117T070000
DTEND;TZID=Europe/Berlin:20251117T080000
UID:D6FE7559-C65E-47D3-A023-578CDD6A5C94
SUMMARY:Frist Bestellung Christbäume
CREATED:20251117T065219Z
DTSTAMP:20251117T065219Z
LAST-MODIFIED:20251117T065424Z
SEQUENCE:125
URL:https://www.flueelen.ch/terminkalender-buergergemeinde/korporationsgemeinde-2
X-ACCESS:1
X-HITS:4
X-COLOR:88786d
X-SHOW-END-TIME:1
END:VEVENT
BEGIN:VEVENT
DTSTART;TZID=Europe/Berlin:20251212T090000
DTEND;TZID=Europe/Berlin:20251212T200000
UID:A7C6D9ED-C427-4C9C-9B81-A3053C63E8A1
SUMMARY:Abholung Christbäume
CREATED:20251113T070148Z
DTSTAMP:20251113T070148Z
DESCRIPTION:Die bestellten Christbäume können am Freitag, 12. Dezember 2025, von 9 bis 20 Uhr abgeholt werden.
X-ALT-DESC;FMTTYPE=text/html:<p>Die bestellten Christbäume können am Freitag, 12. Dezember 2025, von 9 bis 20 Uhr abgeholt werden.</p>
URL:www.forst-urnersee.ch
X-ACCESS:1
X-HITS:218
X-COLOR:88786d
X-SHOW-END-TIME:1
END:VEVENT
BEGIN:VEVENT
DTSTART;TZID=Europe/Berlin:20260429T190000
DTEND;TZID=Europe/Berlin:20260429T210000
UID:45DF3049-827A-4D10-8572-DC4C0320661B
SUMMARY:Jahresversammlung Bürgergemeinde Flüelen
CREATED:20251113T070401Z
DTSTAMP:20251113T070401Z
DESCRIPTION:Traktanden:\N\NBegrüssung\N\NWahl der Stimmenzähler\N\NAblage und Genehmigung der Rechnung 2025\NGenehmigung Budget 2026\N\N Revier Forst Urnersee, Informationen \N\NWahlen (Bürgerrat, Präsident und ein Mitglied RPK)\N\NInformationen Korporation Gruonwald\N\NOrientierungen\N\NVerschiedenes\N
X-ALT-DESC;FMTTYPE=text/html:<p><span style="text-decoration: underline;"><strong>Traktanden:</strong></span></p><ol><li><strong>Begrüssung</strong></li></ol><ol start="2"><li><strong>Wahl der Stimmenzähler</strong></li></ol><ol start="3"><li><strong>Ablage und Genehmigung der Rechnung 2025</strong></li><li><strong>Genehmigung Budget 2026</strong></li></ol><ol start="5"><li><strong> Revier Forst Urnersee, Informationen&nbsp;</strong></li></ol><ol start="6"><li><strong>Wahlen (Bürgerrat, Präsident und ein Mitglied RPK)</strong></li></ol><ol start="7"><li><strong>Informationen Korporation Gruonwald</strong></li></ol><ol start="8"><li><strong>Orientierungen</strong></li></ol><ol start="9"><li><strong>Verschiedenes</strong></li></ol>
LAST-MODIFIED:20260330T194645Z
SEQUENCE:11882564
URL:https://www.flueelen.ch/terminkalender-buergergemeinde/versammlung
X-ACCESS:1
X-HITS:527
X-COLOR:88786d
X-SHOW-END-TIME:1
END:VEVENT
BEGIN:VEVENT
DTSTART;TZID=Europe/Berlin:20270502T110000
DTEND;TZID=Europe/Berlin:20270502T140000
UID:1311DCC8-FB2D-4FF9-AB84-E346A5546689
SUMMARY:Korporationsgemeinde Uri
CREATED:20251117T065141Z
DTSTAMP:20251117T065141Z
URL:https://www.flueelen.ch/terminkalender-buergergemeinde/korporationsgemeinde
X-ACCESS:1
X-HITS:460
X-COLOR:88786d
X-SHOW-END-TIME:1
END:VEVENT
BEGIN:VEVENT
DTSTART;TZID=Europe/Berlin:20300914T100000
DTEND;TZID=Europe/Berlin:20300914T160000
UID:7FADF3F9-26BD-4A1E-B696-0B31E159F138
SUMMARY:Nationaler Tag der Bürgergemeinden und Korporationen
CREATED:20250916T100839Z
DTSTAMP:20250916T100839Z
DESCRIPTION:Mehr Infos unter www.svbk.ch
X-ALT-DESC;FMTTYPE=text/html:<p>Mehr Infos unter www.svbk.ch</p>
LAST-MODIFIED:20251113T070300Z
SEQUENCE:5000061
URL:https://www.flueelen.ch/terminkalender-buergergemeinde/nationaler-tag-der-buergergemeinden-und-korporationen
X-ACCESS:1
X-HITS:657
X-COLOR:88786d
X-SHOW-END-TIME:1
END:VEVENT
END:VCALENDAR